BEGIN:VCALENDAR
VERSION:2.0
PRODID:-//Paul Revere House - ECPv6.15.20//NONSGML v1.0//EN
CALSCALE:GREGORIAN
METHOD:PUBLISH
X-WR-CALNAME:Paul Revere House
X-ORIGINAL-URL:https://www.paulreverehouse.org
X-WR-CALDESC:Events for Paul Revere House
REFRESH-INTERVAL;VALUE=DURATION:PT1H
X-Robots-Tag:noindex
X-PUBLISHED-TTL:PT1H
BEGIN:VTIMEZONE
TZID:America/New_York
BEGIN:DAYLIGHT
TZOFFSETFROM:-0500
TZOFFSETTO:-0400
TZNAME:EDT
DTSTART:20230312T070000
END:DAYLIGHT
BEGIN:STANDARD
TZOFFSETFROM:-0400
TZOFFSETTO:-0500
TZNAME:EST
DTSTART:20231105T060000
END:STANDARD
BEGIN:DAYLIGHT
TZOFFSETFROM:-0500
TZOFFSETTO:-0400
TZNAME:EDT
DTSTART:20240310T070000
END:DAYLIGHT
BEGIN:STANDARD
TZOFFSETFROM:-0400
TZOFFSETTO:-0500
TZNAME:EST
DTSTART:20241103T060000
END:STANDARD
BEGIN:DAYLIGHT
TZOFFSETFROM:-0500
TZOFFSETTO:-0400
TZNAME:EDT
DTSTART:20250309T070000
END:DAYLIGHT
BEGIN:STANDARD
TZOFFSETFROM:-0400
TZOFFSETTO:-0500
TZNAME:EST
DTSTART:20251102T060000
END:STANDARD
END:VTIMEZONE
BEGIN:VEVENT
DTSTART;TZID=America/New_York:20240702T183000
DTEND;TZID=America/New_York:20240702T200000
DTSTAMP:20260420T063423
CREATED:20240614T152409Z
LAST-MODIFIED:20240618T201937Z
UID:7965-1719945000-1719950400@www.paulreverehouse.org
SUMMARY:When Boston Was Closed: Ordinary Bostonians and the Intolerable Acts
DESCRIPTION:This year for the first time\, we’re adding to our popular fall lecture series by offering a new live-streamed lecture in the summer. Our summer lecture coincides with Civic Season\, the period between Juneteenth and the Fourth of July. Dr. Adelman’s lecture will be live-streamed at 6:30 pm on Tuesday\, July 2\, and the recording will be made available online afterwards: \nWhen Boston Was Closed: Ordinary Bostonians and the Intolerable Acts \nOn June 1\, 1774\, British officials shut down the port of Boston as punishment for the dumping of East India Company tea six months earlier. Overnight\, ship traffic stopped and the wharves fell silent. In this lecture\, Joseph M. Adelman will discuss how Bostonians lost access to goods and work that they relied on and explore how working people coped with the economic fallout. \nJoseph M. Adelman is an associate professor of history at Framingham State University and an associate editor of The New England Quarterly. He is the author of Revolutionary Networks: The Business and Politics of Printing the News\, 1763-1789. \nWatch the livestream here! \n\n\n 
URL:https://www.paulreverehouse.org/event/when-boston-was-closed-lecture-2024/
LOCATION:Online
ATTACH;FMTTYPE=image/jpeg:https://www.paulreverehouse.org/wp-content/uploads/2024/06/dr_adleman.jpeg
END:VEVENT
BEGIN:VEVENT
DTSTART;TZID=America/New_York:20240706T130000
DTEND;TZID=America/New_York:20240706T150000
DTSTAMP:20260420T063423
CREATED:20240518T152603Z
LAST-MODIFIED:20240518T152603Z
UID:7594-1720270800-1720278000@www.paulreverehouse.org
SUMMARY:Colonial Dance Tunes and Love Songs
DESCRIPTION:In the guise of itinerant musicians\, Al Petty & Deirdre Sweeney perform popular 18th-century tunes such as “Mr. Isaac’s Maggot” and “Jack’s Health” on the penny whistle\, flute\, fife\, & other instruments.
URL:https://www.paulreverehouse.org/event/colonial-dance-tunes-and-love-songs-july-2024/
LOCATION:The Paul Revere House\, 19 N Square\, Boston\, MA\, 02113
ATTACH;FMTTYPE=image/jpeg:https://www.paulreverehouse.org/wp-content/uploads/2023/05/Colonial-Dance-Tunes-and-Love-Songs-scaled-e1684858064679.jpg
END:VEVENT
BEGIN:VEVENT
DTSTART;TZID=America/New_York:20240713T130000
DTEND;TZID=America/New_York:20240713T150000
DTSTAMP:20260420T063423
CREATED:20240518T152740Z
LAST-MODIFIED:20240523T185854Z
UID:7595-1720875600-1720882800@www.paulreverehouse.org
SUMMARY:Patriot Fife and Drum
DESCRIPTION:Enjoy a lively concert of music that accompanied colonists as they marched\, danced\, wooed their beloveds\, and waged war. David Vose and Sue Walko provide fascinating insight into each selection they perform.
URL:https://www.paulreverehouse.org/event/patriot-fife-and-drum-july-2024/
LOCATION:The Paul Revere House\, 19 N Square\, Boston\, MA\, 02113
ATTACH;FMTTYPE=image/jpeg:https://www.paulreverehouse.org/wp-content/uploads/2024/05/fife_and_drum-scaled-e1716490639688.jpg
END:VEVENT
BEGIN:VEVENT
DTSTART;TZID=America/New_York:20240720T130000
DTEND;TZID=America/New_York:20240720T150000
DTSTAMP:20260420T063423
CREATED:20240518T152918Z
LAST-MODIFIED:20240518T152918Z
UID:7596-1721480400-1721487600@www.paulreverehouse.org
SUMMARY:Hammered Dulcimer Concert
DESCRIPTION:Award-winning musician Dave Neiman plays jigs\, reels\, and Baroque and Renaissance tunes that Paul Revere and his family may have enjoyed. \n 
URL:https://www.paulreverehouse.org/event/hammered-dulcimer-concert-july-2024/
LOCATION:The Paul Revere House\, 19 N Square\, Boston\, MA\, 02113
ATTACH;FMTTYPE=image/jpeg:https://www.paulreverehouse.org/wp-content/uploads/2023/05/Dave-Neiman-on-Hammered-Dulcimer-scaled.jpeg
END:VEVENT
BEGIN:VEVENT
DTSTART;TZID=America/New_York:20240727T130000
DTEND;TZID=America/New_York:20240727T150000
DTSTAMP:20260420T063423
CREATED:20240518T153116Z
LAST-MODIFIED:20240518T153116Z
UID:7597-1722085200-1722092400@www.paulreverehouse.org
SUMMARY:John Adams: The Colossus of Independence
DESCRIPTION:Hear from John Adams himself as he discusses his earliest beginnings in Braintree through his days as delegate of the Continental Congress and foreign ambassador. Hear his opinions of his contemporaries and how he longs to be home with his “dearest friend\,” Abigail\, and their children. Mr. Adams’ singular wit is appealing to children and adults!
URL:https://www.paulreverehouse.org/event/john-adams-the-colossus-of-independence-july-2024/
LOCATION:The Paul Revere House\, 19 N Square\, Boston\, MA\, 02113
ATTACH;FMTTYPE=image/jpeg:https://www.paulreverehouse.org/wp-content/uploads/2023/03/20220528_145200-scaled-e1680031606817.jpg
END:VEVENT
END:VCALENDAR